Workbook

Sheet CJ
A1: INTERIOR APPRAISAL DATA SHEET - SUPPLEMENT
A2: SOUTHERN INTERIOR FOREST REGION
C4: COMMON JUNCTION CALCULATION
B6: CP: | C6: 70 | D6: Date: | E6: 43273
D8: SPEED (km/hr) | F8: TIME (hrs)
A9: BLOCK | B9: ROAD | C9: DIST. (km.) | D9: LOADED | E9: EMPTY | F9: LOADED | G9: EMPTY | H9: TOTAL
A10: 1 | B10: TAB1 | C10: 0.07 | D10: 15 | E10: 20 | F10: =IF(D10="",0,$C10/D10) -> 0.0046666667 | G10: =IF(E10="",0,$C10/E10) -> 0.0035 | H10: =SUM(F10:G10) -> 0.0081666667
B11: ECE1 | C11: 1.1 | D11: 15 | E11: 20 | F11: =IF(D11="",0,$C11/D11) -> 0.073333333 | G11: =IF(E11="",0,$C11/E11) -> 0.055 | H11: =SUM(F11:G11) -> 0.12833333
B12: Blewett Road to CJ | C12: 3.7 | D12: 40 | E12: 50 | F12: =IF(D12="",0,$C12/D12) -> 0.0925 | G12: =IF(E12="",0,$C12/E12) -> 0.074 | H12: =SUM(F12:G12) -> 0.1665
F13: =IF(D13="",0,$C13/D13) -> 0 | G13: =IF(E13="",0,$C13/E13) -> 0 | H13: =SUM(F13:G13) -> 0
F14: =IF(D14="",0,$C14/D14) -> 0 | G14: =IF(E14="",0,$C14/E14) -> 0 | H14: =SUM(F14:G14) -> 0
G15: TOTAL | H15: =SUM(H10:H14) -> 0.303
A17: 2 | B17: TAB5 | C17: 0.12 | D17: 15 | E17: 20 | F17: =IF(D17="",0,$C17/D17) -> 0.008 | G17: =IF(E17="",0,$C17/E17) -> 0.006 | H17: =SUM(F17:G17) -> 0.014
B18: ECE1 | C18: 3.45 | D18: 15 | E18: 20 | F18: =IF(D18="",0,$C18/D18) -> 0.23 | G18: =IF(E18="",0,$C18/E18) -> 0.1725 | H18: =SUM(F18:G18) -> 0.4025
B19: Blewett Road to CJ | C19: 3.7 | D19: 40 | E19: 50 | F19: =IF(D19="",0,$C19/D19) -> 0.0925 | G19: =IF(E19="",0,$C19/E19) -> 0.074 | H19: =SUM(F19:G19) -> 0.1665
F20: =IF(D20="",0,$C20/D20) -> 0 | G20: =IF(E20="",0,$C20/E20) -> 0 | H20: =SUM(F20:G20) -> 0
F21: =IF(D21="",0,$C21/D21) -> 0 | G21: =IF(E21="",0,$C21/E21) -> 0 | H21: =SUM(F21:G21) -> 0
G22: TOTAL | H22: =SUM(H17:H21) -> 0.583
A24: 3 | B24: ECE1 | C24: 4.84 | D24: 15 | E24: 20 | F24: =IF(D24="",0,$C24/D24) -> 0.32266667 | G24: =IF(E24="",0,$C24/E24) -> 0.242 | H24: =SUM(F24:G24) -> 0.56466667
B25: Blewett Road to CJ | C25: 3.7 | D25: 40 | E25: 50 | F25: =IF(D25="",0,$C25/D25) -> 0.0925 | G25: =IF(E25="",0,$C25/E25) -> 0.074 | H25: =SUM(F25:G25) -> 0.1665
F26: =IF(D26="",0,$C26/D26) -> 0 | G26: =IF(E26="",0,$C26/E26) -> 0 | H26: =SUM(F26:G26) -> 0
F27: =IF(D27="",0,$C27/D27) -> 0 | G27: =IF(E27="",0,$C27/E27) -> 0 | H27: =SUM(F27:G27) -> 0
G28: TOTAL | H28: =SUM(H24:H27) -> 0.73116667
A30: 4 | B30: ECE1 | C30: 5.73 | D30: 15 | E30: 20 | F30: =IF(D30="",0,$C30/D30) -> 0.382 | G30: =IF(E30="",0,$C30/E30) -> 0.2865 | H30: =SUM(F30:G30) -> 0.6685
B31: Blewett Road to CJ | C31: 3.7 | D31: 40 | E31: 50 | F31: =IF(D31="",0,$C31/D31) -> 0.0925 | G31: =IF(E31="",0,$C31/E31) -> 0.074 | H31: =SUM(F31:G31) -> 0.1665
F32: =IF(D32="",0,$C32/D32) -> 0 | G32: =IF(E32="",0,$C32/E32) -> 0 | H32: =SUM(F32:G32) -> 0
F33: =IF(D33="",0,$C33/D33) -> 0 | G33: =IF(E33="",0,$C33/E33) -> 0 | H33: =SUM(F33:G33) -> 0
G34: TOTAL | H34: =SUM(H30:H33) -> 0.835
A36: 5 | B36: ECE5 | C36: 3.04 | D36: 15 | E36: 20 | F36: =IF(D36="",0,$C36/D36) -> 0.20266667 | G36: =IF(E36="",0,$C36/E36) -> 0.152 | H36: =SUM(F36:G36) -> 0.35466667
B37: ECE1 | C37: 4.26 | D37: 15 | E37: 20 | F37: =IF(D37="",0,$C37/D37) -> 0.284 | G37: =IF(E37="",0,$C37/E37) -> 0.213 | H37: =SUM(F37:G37) -> 0.497
B38: Blewett Road to CJ | C38: 3.7 | D38: 40 | E38: 50 | F38: =IF(D38="",0,$C38/D38) -> 0.0925 | G38: =IF(E38="",0,$C38/E38) -> 0.074 | H38: =SUM(F38:G38) -> 0.1665
F39: =IF(D39="",0,$C39/D39) -> 0 | G39: =IF(E39="",0,$C39/E39) -> 0 | H39: =SUM(F39:G39) -> 0
G40: TOTAL | H40: =SUM(H36:H39) -> 1.0181667
F42: =IF(D42="",0,$C42/D42) -> 0 | G42: =IF(E42="",0,$C42/E42) -> 0 | H42: =SUM(F42:G42) -> 0
F43: =IF(D43="",0,$C43/D43) -> 0 | G43: =IF(E43="",0,$C43/E43) -> 0 | H43: =SUM(F43:G43) -> 0
F44: =IF(D44="",0,$C44/D44) -> 0 | G44: =IF(E44="",0,$C44/E44) -> 0 | H44: =SUM(F44:G44) -> 0
F45: =IF(D45="",0,$C45/D45) -> 0 | G45: =IF(E45="",0,$C45/E45) -> 0 | H45: =SUM(F45:G45) -> 0
G46: TOTAL | H46: =SUM(H42:H45) -> 0
F47: =IF(D47="",0,$C47/D47) -> 0 | G47: =IF(E47="",0,$C47/E47) -> 0 | H47: =SUM(F47:G47) -> 0
F48: =IF(D48="",0,$C48/D48) -> 0 | G48: =IF(E48="",0,$C48/E48) -> 0 | H48: =SUM(F48:G48) -> 0
F49: =IF(D49="",0,$C49/D49) -> 0 | G49: =IF(E49="",0,$C49/E49) -> 0 | H49: =SUM(F49:G49) -> 0
F50: =IF(D50="",0,$C50/D50) -> 0 | G50: =IF(E50="",0,$C50/E50) -> 0 | H50: =SUM(F50:G50) -> 0
G51: TOTAL | H51: =SUM(H47:H50) -> 0
F53: =IF(D53="",0,$C53/D53) -> 0 | G53: =IF(E53="",0,$C53/E53) -> 0 | H53: =SUM(F53:G53) -> 0
F54: =IF(D54="",0,$C54/D54) -> 0 | G54: =IF(E54="",0,$C54/E54) -> 0 | H54: =SUM(F54:G54) -> 0
F55: =IF(D55="",0,$C55/D55) -> 0 | G55: =IF(E55="",0,$C55/E55) -> 0 | H55: =SUM(F55:G55) -> 0
F56: =IF(D56="",0,$C56/D56) -> 0 | G56: =IF(E56="",0,$C56/E56) -> 0 | H56: =SUM(F56:G56) -> 0
G57: TOTAL | H57: =SUM(H53:H56) -> 0
C59: Fields must be entered manually
C60: Fields automatically populated
B62: For instructions on how to calculate the weighted average cycle time,
B63: refer to Section 4.5.1 of the IAM.
B65: Note: Rounding convention per Section 1.3 (4) of IAM

Sheet Cycle Time
A1: INTERIOR APPRAISAL DATA SHEET - SUPPLEMENT
A2: SOUTHERN INTERIOR FOREST REGION
C4: CYCLE TIME CALCULATION - LONG
B6: CP: | C6: =CJ!C6 -> 70 | D6: Date: | E6: 43273
B8: WEIGHTED CJ CYCLE TIME
B9: BLOCK | C9: Time to CJ (hrs) | D9: Block Volume (m3) | E9: Time x Volume
B10: =CJ!A10 -> 1 | C10: =CJ!H15 -> 0.303 | D10: 6465 | E10: =C10*D10 -> 1958.895
B11: =CJ!A17 -> 2 | C11: =CJ!H22 -> 0.583 | D11: 8016 | E11: =C11*D11 -> 4673.328
B12: =CJ!A24 -> 3 | C12: =CJ!H28 -> 0.73116667 | D12: 2886 | E12: =C12*D12 -> 2110.147
B13: =CJ!A30 -> 4 | C13: =CJ!H34 -> 0.835 | D13: 3977 | E13: =C13*D13 -> 3320.795
B14: =CJ!A36 -> 5 | C14: =CJ!H40 -> 1.0181667 | D14: 9546 | E14: =C14*D14 -> 9719.419
B15: =CJ!A42 -> 0 | C15: =CJ!H46 -> 0 | E15: =C15*D15 -> 0
B16: 0 | C16: 0 | E16: =C16*D16 -> 0
B17: 0 | C17: 0 | E17: =C17*D17 -> 0
B18: =CJ!A47 -> 0 | C18: =CJ!H51 -> 0 | E18: =C18*D18 -> 0
B19: =CJ!A53 -> 0 | C19: =CJ!H55 -> 0 | E19: =C19*D19 -> 0
B20: TOTAL | D20: =SUM(D10:D19)+0.00000000001 -> 30890 | E20: =SUM(E10:E19) -> 21782.584
C21: WEIGHTED CJ TIME | E21: =IF(D20="",0,$E20/$D20) -> 0.7051662
C25: WEIGHTED UNAVOIDABLE DELAY
B26: HARV. SYS. | C26: Volume | D26: Weight | E26: DELAY (hrs.) | F26: Weighted Delay (hrs)
B27: CABLE | C27: =D12+D13+D14 -> 16409 | D27: =IF(C27="",0,$C27/C30) -> 0.53120751 | E27: 1.55 | F27: =D27*E27 -> 0.82337164
B28: HELI | D28: =IF(C28="",0,$C28/C30) -> 0 | E28: 1.3 | F28: =D28*E28 -> 0
B29: SKIDDER | C29: =D10+D11 -> 14481 | D29: =IF(C29="",0,$C29/C30) -> 0.46879249 | E29: 1.3 | F29: =D29*E29 -> 0.60943024
B30: TOTAL | C30: =SUM(C27:C29) -> 30890 | D30: =SUM(D27:D29) -> 1 | E30: WEIGHTED DELAY | F30: =SUM(F27:F29) -> 1.4328019
C35: SPEED (km/hr.) | E35: TIME (hrs.) | G35: TOTAL TIME
A36: ROAD/DETAILS | B36: DISTANCE (km.) | C36: LOADED | D36: EMPTY | E36: LOADED | F36: EMPTY | G36: L plus E (hrs.)
A37: BC to CJ | B37: See | C37: CJ | D37: Calculation | G37: =E21 -> 0.7051662
A38: Blewett road meets Hwy 3A to mill | B38: 8.9 | C38: 70 | D38: 75 | E38: =IF(C38="",0,$B38/C38) -> 0.12714286 | F38: =IF(D38="",0,$B38/D38) -> 0.11866667 | G38: =SUM(E38:F38) -> 0.24580952
A39: Hwy 3A 80 km | B39: 14.4 | C39: 75 | D39: 80 | E39: =IF(C39="",0,$B39/C39) -> 0.192 | F39: =IF(D39="",0,$B39/D39) -> 0.18 | G39: =SUM(E39:F39) -> 0.372
A40: Hwy 3A 90 km to Robson Access Road | B40: 4.5 | C40: 85 | D40: 90 | E40: =IF(C40="",0,$B40/C40) -> 0.052941176 | F40: =IF(D40="",0,$B40/D40) -> 0.05 | G40: =SUM(E40:F40) -> 0.10294118
A41: Robson Access off ramp | B41: 0.5 | C41: 40 | D41: 50 | E41: =IF(C41="",0,$B41/C41) -> 0.0125 | F41: =IF(D41="",0,$B41/D41) -> 0.01 | G41: =SUM(E41:F41) -> 0.0225
A42: Roson Access road 80km | B42: 2.1 | C42: 75 | D42: 80 | E42: =IF(C42="",0,$B42/C42) -> 0.028 | F42: =IF(D42="",0,$B42/D42) -> 0.02625 | G42: =SUM(E42:F42) -> 0.05425
A43: Robson Access Rd. - Arrow Lakes Drive (60km/h zone) | B43: 3.5 | C43: 55 | D43: 60 | E43: =IF(C43="",0,$B43/C43) -> 0.063636364 | F43: =IF(D43="",0,$B43/D43) -> 0.058333333 | G43: =SUM(E43:F43) -> 0.1219697
A44: Arrow Lakes Dr. to Rail Crossing (80Km/h zone) | B44: 5.7 | C44: 70 | D44: 80 | E44: =IF(C44="",0,$B44/C44) -> 0.081428571 | F44: =IF(D44="",0,$B44/D44) -> 0.07125 | G44: =SUM(E44:F44) -> 0.15267857
A45: Rail Crossing to Celgar Scales | B45: 0.5 | C45: 30 | D45: 30 | E45: =IF(C45="",0,$B45/C45) -> 0.016666667 | F45: =IF(D45="",0,$B45/D45) -> 0.016666667 | G45: =SUM(E45:F45) -> 0.033333333
E46: =IF(C46="",0,$B46/C46) -> 0 | F46: =IF(D46="",0,$B46/D46) -> 0 | G46: =SUM(E46:F46) -> 0
A47: Sector Time | G47: =SUM(E47:F47) -> 0
F48: TIME | G48: =SUM(G37:H47) -> 1.8106485
F49: DELAY | G49: =F30 -> 1.4328019
F51: CYCLE TIME: | G51: =SUM(G48:H49) -> 3.2434504 | H51: HOURS
F53: K070001 | G53: =C10+E29+SUM(G38:H46) -> 2.7084823 | H53: HOURS
F55: K070002 | G55: =C11+E29+SUM(G38:H46) -> 2.9884823 | H55: HOURS
F57: K070003 | G57: =C12+E27+SUM(G38:H46) -> 3.386649 | H57: HOURS
F59: K070004 | G59: =C13+E27+SUM(G38:H46) -> 3.4904823 | H59: HOURS
F61: K070005 | G61: =C14+E27+SUM(G38:H46) -> 3.673649 | H61: HOURS
